BEGIN:VCALENDAR
VERSION:2.0
PRODID:-//INTENSIVkinder Niedersachsen e.V. - ECPv4.9.7//NONSGML v1.0//EN
CALSCALE:GREGORIAN
METHOD:PUBLISH
X-WR-CALNAME:INTENSIVkinder Niedersachsen e.V.
X-ORIGINAL-URL:https://intensivkinder-niedersachsen.de
X-WR-CALDESC:Veranstaltungen im INTENSIVkinder Niedersachsen e.V.
BEGIN:VTIMEZONE
TZID:"Europe/Berlin"
BEGIN:DAYLIGHT
TZOFFSETFROM:+0100
TZOFFSETTO:+0200
TZNAME:CEST
DTSTART:20180325T010000
END:DAYLIGHT
BEGIN:STANDARD
TZOFFSETFROM:+0200
TZOFFSETTO:+0100
TZNAME:CET
DTSTART:20181028T010000
END:STANDARD
END:VTIMEZONE
BEGIN:VEVENT
DTSTART;TZID="Europe/Berlin":20180724T093000
DTEND;TZID="Europe/Berlin":20180724T110000
DTSTAMP:20260421T072436
CREATED:20180717T095936Z
LAST-MODIFIED:20190910T111823Z
UID:1445-1532424600-1532430000@intensivkinder-niedersachsen.de
SUMMARY:INTENSIVkinder-Frühstückstreffen
DESCRIPTION:Je Frühstücks­treffen fällt pro Person ein Kosten­beitrag von Euro 3\,- an.\nWenn ihr dabei sein möchtet\, meldet Euch bitte bei mir an. \nBeate Leisner\nTel.: 0160 /​ 7270001\nleisner.​nds@​intensivkinder.​de \n
URL:https://intensivkinder-niedersachsen.de/termin/intensivkinder-fruehstueckstreffen-6/
LOCATION:Diakonielädchen "Roter Faden" in Ronnenberg
CATEGORIES:Frühstückstreffen
ATTACH;FMTTYPE=image/png:https://intensivkinder-niedersachsen.de/wp-content/uploads/2019/06/logo_eigen2g-weiss.png
END:VEVENT
END:VCALENDAR