BEGIN:VCALENDAR
VERSION:2.0
PRODID:-//INTENSIVkinder Niedersachsen e.V. - ECPv4.9.7//NONSGML v1.0//EN
CALSCALE:GREGORIAN
METHOD:PUBLISH
X-WR-CALNAME:INTENSIVkinder Niedersachsen e.V.
X-ORIGINAL-URL:https://intensivkinder-niedersachsen.de
X-WR-CALDESC:Veranstaltungen im INTENSIVkinder Niedersachsen e.V.
BEGIN:VTIMEZONE
TZID:"Europe/Berlin"
BEGIN:DAYLIGHT
TZOFFSETFROM:+0100
TZOFFSETTO:+0200
TZNAME:CEST
DTSTART:20180325T010000
END:DAYLIGHT
BEGIN:STANDARD
TZOFFSETFROM:+0200
TZOFFSETTO:+0100
TZNAME:CET
DTSTART:20181028T010000
END:STANDARD
END:VTIMEZONE
BEGIN:VEVENT
DTSTART;VALUE=DATE:20180811
DTEND;VALUE=DATE:20180812
DTSTAMP:20260421T090531
CREATED:20180710T164822Z
LAST-MODIFIED:20190910T170324Z
UID:1593-1533945600-1534031999@intensivkinder-niedersachsen.de
SUMMARY:Ein Tag nur für Mütter
DESCRIPTION:Anmel­dungen über mich nur per Mail\, Mitglieder zahlen 10.-EUR. \nBeate Leisner\nleisner.​nds@​intensivkinder.​de \n
URL:https://intensivkinder-niedersachsen.de/termin/ein-tag-nur-fuer-muetter/
LOCATION:Lüneburg
CATEGORIES:Mütter-Auszeit/Seminar
ATTACH;FMTTYPE=image/png:https://intensivkinder-niedersachsen.de/wp-content/uploads/2019/06/logo_eigen2g-weiss.png
END:VEVENT
END:VCALENDAR