BEGIN:VCALENDAR
VERSION:2.0
PRODID:-//INTENSIVkinder Niedersachsen e.V. - ECPv4.9.7//NONSGML v1.0//EN
CALSCALE:GREGORIAN
METHOD:PUBLISH
X-WR-CALNAME:INTENSIVkinder Niedersachsen e.V.
X-ORIGINAL-URL:https://intensivkinder-niedersachsen.de
X-WR-CALDESC:Veranstaltungen im INTENSIVkinder Niedersachsen e.V.
BEGIN:VTIMEZONE
TZID:"Europe/Berlin"
BEGIN:DAYLIGHT
TZOFFSETFROM:+0100
TZOFFSETTO:+0200
TZNAME:CEST
DTSTART:20260329T010000
END:DAYLIGHT
BEGIN:STANDARD
TZOFFSETFROM:+0200
TZOFFSETTO:+0100
TZNAME:CET
DTSTART:20261025T010000
END:STANDARD
END:VTIMEZONE
BEGIN:VEVENT
DTSTART;VALUE=DATE:20260619
DTEND;VALUE=DATE:20260622
DTSTAMP:20260419T121405
CREATED:20260414T103119Z
LAST-MODIFIED:20260414T103119Z
UID:4348-1781827200-1782086399@intensivkinder-niedersachsen.de
SUMMARY:Auszeit für pflegende Mütter 2026
DESCRIPTION:Liebe Mütter\, \nhiermit laden wir Sie /​ Euch zu einer Auszeit für pflegende Mütter ein. \nOrt: Hotel an der Altstadt in Hameln \nZeit: Freitag\, 19.06.2026 bis Sonntag\, 21.06.2026 \nAlles weitere in dieser Einladung \nAnmel­dungen bitte ab sofort bis zum 15.05.2026 per Mail an info@​intensivkinder-​nds.​de \n
URL:https://intensivkinder-niedersachsen.de/termin/auszeit-fuer-pflegende-muetter-2026/
CATEGORIES:Mütter-Auszeit/Seminar
ATTACH;FMTTYPE=image/jpeg:https://intensivkinder-niedersachsen.de/wp-content/uploads/2026/04/image001g.jpg
END:VEVENT
END:VCALENDAR